BEGIN:VCALENDAR
VERSION:2.0
PRODID:-//Compliance Institute, Nigeria - ECPv6.8.2.1//NONSGML v1.0//EN
CALSCALE:GREGORIAN
METHOD:PUBLISH
X-ORIGINAL-URL:https://testcin.netpadi.com
X-WR-CALDESC:Events for Compliance Institute, Nigeria
REFRESH-INTERVAL;VALUE=DURATION:PT1H
X-Robots-Tag:noindex
X-PUBLISHED-TTL:PT1H
BEGIN:VTIMEZONE
TZID:Africa/Lagos
BEGIN:STANDARD
TZOFFSETFROM:+0100
TZOFFSETTO:+0100
TZNAME:WAT
DTSTART:20210101T000000
END:STANDARD
END:VTIMEZONE
BEGIN:VEVENT
DTSTART;TZID=Africa/Lagos:20210407T160000
DTEND;TZID=Africa/Lagos:20210407T163000
DTSTAMP:20260422T031838
CREATED:20210225T111024Z
LAST-MODIFIED:20210331T004007Z
UID:17264-1617811200-1617813000@testcin.netpadi.com
SUMMARY:Compliance Live - Free Webinar
DESCRIPTION:The monthly compliance live\, free webinar will hold on Wednesday\, April 07\, 2020\, by 04:00 PM – 04:30 PM West Central Africa. \nIf you have not registered\, click on the link below to register in advance for this webinar:\nhttps://zoom.us/webinar/register/WN_JdA6CvWvTqqngTXxfQ7Khw \nTopic⁚ Cryptocurrencies\, The regulatory and professional response to the evolution.\nFacilitator: Mr Obinna Okafor. \nThere is a Questions and Answer session included. Feel free to ask any questions you might have. \nTo access the previous series\, click on the link below \nhttps://testcin.netpadi.com/designate-compliance-professional-dcp-study-pack/compliance-live-webinar/ \nOnly DCP / ACIN Applicants and Members can gain access. \nThank you.
URL:https://testcin.netpadi.com/event/compliance-live-free-webinar-6/
LOCATION:Online Training via Zoom Platform
CATEGORIES:Compliance Live Monthly Webinar
ATTACH;FMTTYPE=image/jpeg:https://testcin.netpadi.com/wp-content/uploads/2020/09/bc51bca7-9467-4ac3-bd2f-c3ec01b54999.jpg
ORGANIZER;CN="Compliance Institute%2C Nigeria":MAILTO:info@testcin.netpadi.com
END:VEVENT
END:VCALENDAR