BEGIN:VCALENDAR
VERSION:2.0
PRODID:-//Compliance Institute, Nigeria - ECPv6.8.2.1//NONSGML v1.0//EN
CALSCALE:GREGORIAN
METHOD:PUBLISH
X-ORIGINAL-URL:https://testcin.netpadi.com
X-WR-CALDESC:Events for Compliance Institute, Nigeria
REFRESH-INTERVAL;VALUE=DURATION:PT1H
X-Robots-Tag:noindex
X-PUBLISHED-TTL:PT1H
BEGIN:VTIMEZONE
TZID:Africa/Lagos
BEGIN:STANDARD
TZOFFSETFROM:+0100
TZOFFSETTO:+0100
TZNAME:WAT
DTSTART:20210101T000000
END:STANDARD
END:VTIMEZONE
BEGIN:VEVENT
DTSTART;TZID=Africa/Lagos:20210602T160000
DTEND;TZID=Africa/Lagos:20210602T170000
DTSTAMP:20260422T000701
CREATED:20210531T162947Z
LAST-MODIFIED:20210531T162947Z
UID:17268-1622649600-1622653200@testcin.netpadi.com
SUMMARY:Compliance Live - Free Webinar
DESCRIPTION:The monthly Compliance live webinar will hold on Wednesday\, June 02\, 2020. \nTime: 4:00 pm \nTopic: Enhancing the Skillsets of Compliance Officers to Position them as Subject Matter Experts and Effective Communicators to Support the Digital Transformation Agenda of their Organizations. \nSpeaker: Mr Oladele Adeoye\, FCIN (Executive director\, Operations at DataPro limited) \nModerators \n\nMrs Isioma Gogo-Anazodo\, FCIN (Chairman\, Program\, Education and Examination Committee at Compliance Institute\, Nigeria)\nMr Pattison Boleigha\, FCIN (President\, Compliance Institute\, Nigeria)\n\nIf you have not registered\, click on the link below to register in advance for this webinar:\nhttps://zoom.us/webinar/register/WN_JdA6CvWvTqqngTXxfQ7Khw \nThere is a Questions and Answer session included. Feel free to ask any questions you might have. \nTo access the previous series\, click on the link below \nhttps://testcin.netpadi.com/designate-compliance-professional-dcp-study-pack/compliance-live-webinar/ \nOnly DCP / ACIN Applicants and Members can gain access. \nThank you.
URL:https://testcin.netpadi.com/event/compliance-live-free-webinar-8/
LOCATION:Online Training via Zoom Platform
CATEGORIES:Compliance Live Monthly Webinar
ATTACH;FMTTYPE=image/jpeg:https://testcin.netpadi.com/wp-content/uploads/2021/05/WhatsApp-Image-2021-05-31-at-12.24.05.jpeg
ORGANIZER;CN="Compliance Institute%2C Nigeria":MAILTO:info@testcin.netpadi.com
END:VEVENT
BEGIN:VEVENT
DTSTART;TZID=Africa/Lagos:20210616T160000
DTEND;TZID=Africa/Lagos:20210616T170000
DTSTAMP:20260422T000701
CREATED:20210614T224235Z
LAST-MODIFIED:20210726T132848Z
UID:18353-1623859200-1623862800@testcin.netpadi.com
SUMMARY:Compliance Live - Free Webinar
DESCRIPTION:The monthly compliance live free webinar will hold on Wednesday\, June 16\, 2021\, from 04:00 PM – 05:00 PM West Central Africa. \nIf you have not registered\, click on the link below to register in advance for this webinar:\nhttps://zoom.us/webinar/register/WN_JdA6CvWvTqqngTXxfQ7Khw \nTopic: \nAn Overview of the Framework for Regulatory Sandbox Operations. \nSpeaker: \nMr Ajakaiye Waiyeola\, Principal manager in Central Bank of Nigeria’s Payments System Management Department. \nModerator:\nMrs Isioma Gogo-Anazodo\, FCIN\,\nDirector Program\, Education and Examination Committee\,\nCompliance Institute\, Nigeria (CIN) \nThere is a Questions and Answer session included. Feel free to ask any questions you might have.
URL:https://testcin.netpadi.com/event/compliance-live-free-webinar-11/
LOCATION:Online Training via Zoom Platform
CATEGORIES:Compliance Live Monthly Webinar
ATTACH;FMTTYPE=image/jpeg:https://testcin.netpadi.com/wp-content/uploads/2020/06/667f2f21-b9b0-4ed7-9f47-0bcc50482497.jpg
ORGANIZER;CN="Compliance Institute%2C Nigeria":MAILTO:info@testcin.netpadi.com
END:VEVENT
END:VCALENDAR