BEGIN:VCALENDAR
VERSION:2.0
PRODID:-//Compliance Institute, Nigeria - ECPv6.8.2.1//NONSGML v1.0//EN
CALSCALE:GREGORIAN
METHOD:PUBLISH
X-ORIGINAL-URL:https://testcin.netpadi.com
X-WR-CALDESC:Events for Compliance Institute, Nigeria
REFRESH-INTERVAL;VALUE=DURATION:PT1H
X-Robots-Tag:noindex
X-PUBLISHED-TTL:PT1H
BEGIN:VTIMEZONE
TZID:Africa/Lagos
BEGIN:STANDARD
TZOFFSETFROM:+0100
TZOFFSETTO:+0100
TZNAME:WAT
DTSTART:20210101T000000
END:STANDARD
END:VTIMEZONE
BEGIN:VEVENT
DTSTART;TZID=Africa/Lagos:20210707T160000
DTEND;TZID=Africa/Lagos:20210707T170000
DTSTAMP:20260421T204938
CREATED:20210706T021803Z
LAST-MODIFIED:20210706T093740Z
UID:17270-1625673600-1625677200@testcin.netpadi.com
SUMMARY:Compliance Live - Free Webinar
DESCRIPTION:The monthly compliance live\, free webinar will hold on Wednesday\, July 07\, 2021\, by 04:00 PM – 05:00 PM West Central Africa. \nDate: July 7\, 2021 \nTime: 4:00 pm \nTopic: Managing Compliance Resources and Budget to ensure the Function is adequately resourced to Manage Compliance risks. \nIf you have not registered\, click on the link below to register in advance for this webinar:\nhttps://zoom.us/webinar/register/WN_JdA6CvWvTqqngTXxfQ7Khw \nThere is a Questions and Answer session included. Feel free to ask any questions you might have. \nTo access the previous series\, click on the link below \nhttps://testcin.netpadi.com/designate-compliance-professional-dcp-study-pack/compliance-live-webinar/ \nOnly DCP / ACIN Applicants and Members can gain access. \nThank you.
URL:https://testcin.netpadi.com/event/compliance-live-free-webinar-9/
LOCATION:Online Training via Zoom Platform
CATEGORIES:Compliance Live Monthly Webinar
ATTACH;FMTTYPE=image/jpeg:https://testcin.netpadi.com/wp-content/uploads/2021/02/WhatsApp-Image-2021-07-05-at-17.11.25.jpeg
ORGANIZER;CN="Compliance Institute%2C Nigeria":MAILTO:info@testcin.netpadi.com
END:VEVENT
BEGIN:VEVENT
DTSTART;TZID=Africa/Lagos:20210728T160000
DTEND;TZID=Africa/Lagos:20210728T170000
DTSTAMP:20260421T204938
CREATED:20210723T102550Z
LAST-MODIFIED:20210726T134133Z
UID:18507-1627488000-1627491600@testcin.netpadi.com
SUMMARY:Compliance Live - Free Webinar
DESCRIPTION:The monthly compliance live\, free webinar will hold on Wednesday\, July 28\, 2021\, by 04:00 PM – 05:00 PM West Central Africa. \nTopic: Aligning Organizational Compliance Program to Digital Transformation in the New Normal. \nFacilitator: Raheem Owodeyi\, FCIN (Executive Director\, Operations/ Chief Operating Officer at Sterling Bank) \nIf you have not registered\, click on the link below to register in advance for this webinar:\nhttps://zoom.us/webinar/register/WN_JdA6CvWvTqqngTXxfQ7Khw \nThere is a Questions and Answer session included. Feel free to ask any questions you might have. \nTo access the previous series\, click on the link below \nhttps://testcin.netpadi.com/designate-compliance-professional-dcp-study-pack/compliance-live-webinar/ \nNote: Only DCP / ACIN / FCIN Applicants and Members can gain access. \nThank you.
URL:https://testcin.netpadi.com/event/compliance-live-free-webinar-10/
LOCATION:Online Training via Zoom Platform
CATEGORIES:Compliance Live Monthly Webinar
ATTACH;FMTTYPE=image/png:https://testcin.netpadi.com/wp-content/uploads/2021/07/July-Compliance-Live-Webinar-2-v2.png
ORGANIZER;CN="Compliance Institute%2C Nigeria":MAILTO:info@testcin.netpadi.com
END:VEVENT
END:VCALENDAR