BEGIN:VCALENDAR
VERSION:2.0
PRODID:-//Compliance Institute, Nigeria - ECPv6.8.2.1//NONSGML v1.0//EN
CALSCALE:GREGORIAN
METHOD:PUBLISH
X-ORIGINAL-URL:https://testcin.netpadi.com
X-WR-CALDESC:Events for Compliance Institute, Nigeria
REFRESH-INTERVAL;VALUE=DURATION:PT1H
X-Robots-Tag:noindex
X-PUBLISHED-TTL:PT1H
BEGIN:VTIMEZONE
TZID:Africa/Lagos
BEGIN:STANDARD
TZOFFSETFROM:+0100
TZOFFSETTO:+0100
TZNAME:WAT
DTSTART:20210101T000000
END:STANDARD
END:VTIMEZONE
BEGIN:VEVENT
DTSTART;TZID=Africa/Lagos:20211103T170000
DTEND;TZID=Africa/Lagos:20211103T180000
DTSTAMP:20260421T142238
CREATED:20211102T215312Z
LAST-MODIFIED:20211102T215708Z
UID:17278-1635958800-1635962400@testcin.netpadi.com
SUMMARY:Free Compliance Webinar
DESCRIPTION:The bi-monthly free Compliance Live Webinar will hold on Wednesday\, November 3\, 2021\, by 05:00 PM – 06:00 PM (WAT). \nTopic: “Essentials of AML/CFT Compliance For Insurance Practitioners.” \nIf you have not registered\, click on the link below to register in advance for this webinar:\nhttps://zoom.us/webinar/register/WN_JdA6CvWvTqqngTXxfQ7Khw \nSpeaker: \nDr Samuel Onyeka\nChief Executive Officer\nISG Consulting Limited \n  \nThere is a Question\, and Answer session included. Feel free to ask any questions you might have. \n\nNote: It is important for members of the Institute to attend this webinar to earn two (2) Mandatory Continuing Professional Education (MCPE) points. A minimum of 20 MCPE points is required annually. \n\n\n \n\n\nPlease share this information with your staff\, colleagues\, and friends.\n\n\n \n\n\nWe look forward to your participation.\n\n\n\nP.S: To access the previous series\, click on the link below\n\n\nhttps://testcin.netpadi.com/designate-compliance-professional-dcp-study-pack/compliance-live-webinar/\n\n\n\n\nOnly DCP / ACIN / FCIN Applicants and Members can gain access.\n\n\nThank you.
URL:https://testcin.netpadi.com/event/free-compliance-webinar-4/
LOCATION:Online Training via Zoom Platform
CATEGORIES:Compliance Live Monthly Webinar
ATTACH;FMTTYPE=image/jpeg:https://testcin.netpadi.com/wp-content/uploads/2021/11/76f5ad11-85b3-425b-a12c-4b0390b285d8.jpg
ORGANIZER;CN="Compliance Institute%2C Nigeria":MAILTO:info@testcin.netpadi.com
END:VEVENT
BEGIN:VEVENT
DTSTART;TZID=Africa/Lagos:20211117T170000
DTEND;TZID=Africa/Lagos:20211117T180000
DTSTAMP:20260421T142238
CREATED:20211116T200804Z
LAST-MODIFIED:20211116T200804Z
UID:19878-1637168400-1637172000@testcin.netpadi.com
SUMMARY:Free Compliance Webinar
DESCRIPTION:The bi-monthly free Compliance Live Webinar will hold on Wednesday\, November 17\, 2021\, by 05:00 PM – 06:00 PM (WAT). \nTopic: “Embedding compliance in the organization’s culture.” \nIf you have not registered\, click on the link below to register in advance for this webinar:\nhttps://zoom.us/webinar/register/WN_JdA6CvWvTqqngTXxfQ7Khw \nSpeaker: \nMrs Tinuade Awe \nChief Executive Officer \nNGX Regulation Limited \n  \nThere is a Question\, and Answer session included. Feel free to ask any questions you might have. \n\nNote: It is important for members of the Institute to attend this webinar to earn two (2) Mandatory Continuing Professional Education (MCPE) points. A minimum of 20 MCPE points is required annually. \n\n\n \n\n\nPlease share this information with your staff\, colleagues\, and friends.\n\n\n \n\n\nWe look forward to your participation.\n\n\n\nP.S: To access the previous series\, click on the link below\n\n\nhttps://testcin.netpadi.com/designate-compliance-professional-dcp-study-pack/compliance-live-webinar/\n\n\n\n\nOnly DCP / ACIN / FCIN Applicants and Members can gain access.\n\n\nThank you
URL:https://testcin.netpadi.com/event/free-compliance-webinar-5/
LOCATION:Online Training via Zoom Platform
CATEGORIES:Compliance Live Monthly Webinar
ATTACH;FMTTYPE=image/jpeg:https://testcin.netpadi.com/wp-content/uploads/2021/11/WhatsApp-Image-2021-11-16-at-11.05.18-1.jpeg
ORGANIZER;CN="Compliance Institute%2C Nigeria":MAILTO:info@testcin.netpadi.com
END:VEVENT
END:VCALENDAR