BEGIN:VCALENDAR
VERSION:2.0
PRODID:-//Compliance Institute, Nigeria - ECPv6.8.2.1//NONSGML v1.0//EN
CALSCALE:GREGORIAN
METHOD:PUBLISH
X-ORIGINAL-URL:https://testcin.netpadi.com
X-WR-CALDESC:Events for Compliance Institute, Nigeria
REFRESH-INTERVAL;VALUE=DURATION:PT1H
X-Robots-Tag:noindex
X-PUBLISHED-TTL:PT1H
BEGIN:VTIMEZONE
TZID:Africa/Lagos
BEGIN:STANDARD
TZOFFSETFROM:+0100
TZOFFSETTO:+0100
TZNAME:WAT
DTSTART:20200101T000000
END:STANDARD
END:VTIMEZONE
BEGIN:VEVENT
DTSTART;TZID=Africa/Lagos:20200701T160000
DTEND;TZID=Africa/Lagos:20200701T163000
DTSTAMP:20260423T013709
CREATED:20200701T105740Z
LAST-MODIFIED:20200701T121709Z
UID:15305-1593619200-1593621000@testcin.netpadi.com
SUMMARY:Compliance Live - Free Webinar
DESCRIPTION:Dear Esteemed Member\,\n \nThis is to remind you that the monthly compliance live\, free webinar holds today Wednesday\, July 01\, 2020\, by 04:00 PM – 04:30 PM West Central Africa. \nWe are also happy to announce to you that we have upgraded our training platform to take 500 participants at once. \nIf you have not registered\, click on the link below to register in advance for this webinar:\nhttps://us02web.zoom.us/webinar/register/WN_JdA6CvWvTqqngTXxfQ7Khw \nZoom Webinar ID: 536 836 392 \nPanelist: Pattison Boleigha\, FCIN \nTopic: The International and Regional Context (Continued…) \nLesson: \n\nThe USA Patriot Act and the Bank Secrecy Act\nFATF – Styled Regional Bodies (FRSBs)\nThe Inter-Governmental Action Group Against Money Laundering in West Africa\nThe Compliance Officers Forum of GIABA Member States (COFGMS)\nAssociation of Chief Compliance Officers of Banks in Nigeria\n\nQuestions and Answer Session \nPlease share this information with your staff\, colleagues\, and friends \n\nTo access the previous series\, click on the link below \nhttps://testcin.netpadi.com/designate-compliance-professional-dcp-study-pack/compliance-live-webinar/ \nOnly DCP / ACIN  Applicants and Members can gain access. \nThank you.
URL:https://testcin.netpadi.com/event/compliance-live-free-webinar-2/
LOCATION:Online Training via Zoom Platform
CATEGORIES:Compliance Live Monthly Webinar
ATTACH;FMTTYPE=image/jpeg:https://testcin.netpadi.com/wp-content/uploads/2020/03/istockphoto-828573606-612x612-1.jpg
END:VEVENT
END:VCALENDAR