BEGIN:VCALENDAR
VERSION:2.0
PRODID:-//Compliance Institute, Nigeria - ECPv6.8.2.1//NONSGML v1.0//EN
CALSCALE:GREGORIAN
METHOD:PUBLISH
X-ORIGINAL-URL:https://testcin.netpadi.com
X-WR-CALDESC:Events for Compliance Institute, Nigeria
REFRESH-INTERVAL;VALUE=DURATION:PT1H
X-Robots-Tag:noindex
X-PUBLISHED-TTL:PT1H
BEGIN:VTIMEZONE
TZID:Africa/Lagos
BEGIN:STANDARD
TZOFFSETFROM:+0100
TZOFFSETTO:+0100
TZNAME:WAT
DTSTART:20200101T000000
END:STANDARD
END:VTIMEZONE
BEGIN:VEVENT
DTSTART;TZID=Africa/Lagos:20200902T160000
DTEND;TZID=Africa/Lagos:20200902T163000
DTSTAMP:20260423T011906
CREATED:20200807T083236Z
LAST-MODIFIED:20200828T115005Z
UID:15281-1599062400-1599064200@testcin.netpadi.com
SUMMARY:Compliance Live - Free Webinar
DESCRIPTION:This is to remind you that the monthly compliance live\, free webinar holds on Wednesday\, September 02\, 2020\, by 04:00 PM – 04:30 PM West Central Africa. \nIf you have not registered\, click on the link below to register in advance for this webinar:\nhttps://us02web.zoom.us/webinar/register/WN_JdA6CvWvTqqngTXxfQ7Khw  \nZoom Webinar ID: 536 836 392 \nPanelist: Pattison Boleigha\, FCIN \nTopic: Sanctions Compliance \nLesson: \n\nSanctions Systems and Controls\nSanctions Screening\nWatch Lists\nSanction Screening Calibration\nQuality Assurance and Testing\n\nQuestions and Answer Session \n  \n\nPlease share this information with your staff\, colleagues\, and friends \n\nTo access the previous series\, click on the link below \nhttps://testcin.netpadi.com/designate-compliance-professional-dcp-study-pack/compliance-live-webinar/ \nOnly DCP / ACIN  Applicants and Members can gain access. \n 
URL:https://testcin.netpadi.com/event/compliance-live-free-webinar-4/
LOCATION:Online Training via Zoom Platform
CATEGORIES:Compliance Live Monthly Webinar
ATTACH;FMTTYPE=image/jpeg:https://testcin.netpadi.com/wp-content/uploads/2019/03/compliance-blog-dwight.jpg
ORGANIZER;CN="Compliance Institute%2C Nigeria":MAILTO:info@testcin.netpadi.com
END:VEVENT
END:VCALENDAR