BEGIN:VCALENDAR
VERSION:2.0
PRODID:-//Compliance Institute, Nigeria - ECPv6.8.2.1//NONSGML v1.0//EN
CALSCALE:GREGORIAN
METHOD:PUBLISH
X-WR-CALNAME:Compliance Institute, Nigeria
X-ORIGINAL-URL:https://testcin.netpadi.com
X-WR-CALDESC:Events for Compliance Institute, Nigeria
REFRESH-INTERVAL;VALUE=DURATION:PT1H
X-Robots-Tag:noindex
X-PUBLISHED-TTL:PT1H
BEGIN:VTIMEZONE
TZID:Africa/Lagos
BEGIN:STANDARD
TZOFFSETFROM:+0100
TZOFFSETTO:+0100
TZNAME:WAT
DTSTART:20210101T000000
END:STANDARD
END:VTIMEZONE
BEGIN:VEVENT
DTSTART;TZID=Africa/Lagos:20210505T160000
DTEND;TZID=Africa/Lagos:20210505T170000
DTSTAMP:20260422T032839
CREATED:20210504T072948Z
LAST-MODIFIED:20210504T073054Z
UID:17266-1620230400-1620234000@testcin.netpadi.com
SUMMARY:Compliance Live - Free Webinar
DESCRIPTION:The monthly compliance live free webinar will hold on Wednesday\, May 05\, 2021\, from 04:00 PM – 05:00 PM West Central Africa. \nIf you have not registered\, click on the link below to register in advance for this webinar:\nhttps://zoom.us/webinar/register/WN_JdA6CvWvTqqngTXxfQ7Khw \nTopic: \nData Protection & Privacy Skillset for the Compliance Practitioner \nSpeaker: \nDr Vincent Olatunji\,\nDirector of eGovernment Development and Regulations\,\nNational Information Technology Development Agency (NITDA) \nModerator:\nMr Abimbola Adeseyoju\, FCIN\,\nDirector Partnership\, Publicity & Communication\,\nCompliance Institute\, Nigeria (CIN) \nThere is a Questions and Answer session included. Feel free to ask any questions you might have.
URL:https://testcin.netpadi.com/event/compliance-live-free-webinar-7/
LOCATION:Online Training via Zoom Platform
CATEGORIES:Compliance Live Monthly Webinar
ATTACH;FMTTYPE=image/jpeg:https://testcin.netpadi.com/wp-content/uploads/2021/05/May-2021-Compliance-Live-Web-04.jpg
ORGANIZER;CN="Compliance Institute%2C Nigeria":MAILTO:info@testcin.netpadi.com
END:VEVENT
END:VCALENDAR