BEGIN:VCALENDAR
VERSION:2.0
PRODID:-//Compliance Institute, Nigeria - ECPv6.8.2.1//NONSGML v1.0//EN
CALSCALE:GREGORIAN
METHOD:PUBLISH
X-WR-CALNAME:Compliance Institute, Nigeria
X-ORIGINAL-URL:https://testcin.netpadi.com
X-WR-CALDESC:Events for Compliance Institute, Nigeria
REFRESH-INTERVAL;VALUE=DURATION:PT1H
X-Robots-Tag:noindex
X-PUBLISHED-TTL:PT1H
BEGIN:VTIMEZONE
TZID:Africa/Lagos
BEGIN:STANDARD
TZOFFSETFROM:+0100
TZOFFSETTO:+0100
TZNAME:WAT
DTSTART:20210101T000000
END:STANDARD
END:VTIMEZONE
BEGIN:VEVENT
DTSTART;TZID=Africa/Lagos:20210804T160000
DTEND;TZID=Africa/Lagos:20210804T170000
DTSTAMP:20260421T204955
CREATED:20210803T074101Z
LAST-MODIFIED:20210803T074235Z
UID:17272-1628092800-1628096400@testcin.netpadi.com
SUMMARY:Free Compliance Webinar
DESCRIPTION:The bi-monthly free Compliance Live Webinar will hold on Wednesday\, August 04\, 2021\, by 04:00 PM – 05:00 PM (WAT). \nTopic: Financial Crime Risk Management \nIf you have not registered\, click on the link below to register in advance for this webinar:\nhttps://zoom.us/webinar/register/WN_JdA6CvWvTqqngTXxfQ7Khw \nSpeaker:\nPattison Boleigha\, FCIN\nPresident\, Compliance Institute\, Nigeria \nThere is a Question\, and Answer session included. Feel free to ask any questions you might have. \n\nNote: It is important for members of the Institute to attend this webinar to earn two (2) Mandatory Continuing Professional Education (MCPE) points. A minimum of 20 MCPE points is required annually. \n\n\n \n\n\nPlease share this information with your staff\, colleagues\, and friends.\n\n\n \n\n\nWe look forward to your participation.\n\n\n \n\n\nP.S: To access the previous series\, click on the link below\n\n\nhttps://testcin.netpadi.com/designate-compliance-professional-dcp-study-pack/compliance-live-webinar/\nOnly DCP / ACIN / FCIN Applicants and Members can gain access.\n\n\nThank you.
URL:https://testcin.netpadi.com/event/free-compliance-webinar/
LOCATION:Online Training via Zoom Platform
CATEGORIES:Compliance Live Monthly Webinar
ATTACH;FMTTYPE=image/png:https://testcin.netpadi.com/wp-content/uploads/2021/08/Compliance-Webinar-August-4-2021-Web.png
ORGANIZER;CN="Compliance Institute%2C Nigeria":MAILTO:info@testcin.netpadi.com
END:VEVENT
END:VCALENDAR